BEGIN:VCALENDAR
VERSION:2.0
PRODID:-//Open Circle MCC - ECPv6.15.14//NONSGML v1.0//EN
CALSCALE:GREGORIAN
METHOD:PUBLISH
X-ORIGINAL-URL:https://opencirclemcc.com
X-WR-CALDESC:Events for Open Circle MCC
REFRESH-INTERVAL;VALUE=DURATION:PT1H
X-Robots-Tag:noindex
X-PUBLISHED-TTL:PT1H
BEGIN:VTIMEZONE
TZID:America/Halifax
BEGIN:DAYLIGHT
TZOFFSETFROM:-0400
TZOFFSETTO:-0300
TZNAME:ADT
DTSTART:20290311T060000
END:DAYLIGHT
BEGIN:STANDARD
TZOFFSETFROM:-0300
TZOFFSETTO:-0400
TZNAME:AST
DTSTART:20291104T050000
END:STANDARD
BEGIN:DAYLIGHT
TZOFFSETFROM:-0400
TZOFFSETTO:-0300
TZNAME:ADT
DTSTART:20300310T060000
END:DAYLIGHT
BEGIN:STANDARD
TZOFFSETFROM:-0300
TZOFFSETTO:-0400
TZNAME:AST
DTSTART:20301103T050000
END:STANDARD
BEGIN:DAYLIGHT
TZOFFSETFROM:-0400
TZOFFSETTO:-0300
TZNAME:ADT
DTSTART:20310309T060000
END:DAYLIGHT
BEGIN:STANDARD
TZOFFSETFROM:-0300
TZOFFSETTO:-0400
TZNAME:AST
DTSTART:20311102T050000
END:STANDARD
END:VTIMEZONE
BEGIN:VEVENT
DTSTART;TZID=America/Halifax:20300407T080000
DTEND;TZID=America/Halifax:20300407T170000
DTSTAMP:20260425T002801
CREATED:20260216T175323Z
LAST-MODIFIED:20260216T175809Z
UID:10000052-1901779200-1901811600@opencirclemcc.com
SUMMARY:Board of Directors Meeting
DESCRIPTION:1st Sunday of each month – Board of Directors Meeting
URL:https://opencirclemcc.com/event1/board-of-directors-meeting/2030-04-07/
END:VEVENT
BEGIN:VEVENT
DTSTART;TZID=America/Halifax:20300414T080000
DTEND;TZID=America/Halifax:20300414T170000
DTSTAMP:20260425T002801
CREATED:20260216T180029Z
LAST-MODIFIED:20260216T180029Z
UID:10000112-1902384000-1902416400@opencirclemcc.com
SUMMARY:Breakfast Served After Service
DESCRIPTION:2nd Sunday of each month – Breakfast served after service
URL:https://opencirclemcc.com/event1/breakfast-served-after-service/2030-04-14/
END:VEVENT
END:VCALENDAR