BEGIN:VCALENDAR
VERSION:2.0
PRODID:-//Open Circle MCC - ECPv6.15.14//NONSGML v1.0//EN
CALSCALE:GREGORIAN
METHOD:PUBLISH
X-WR-CALNAME:Open Circle MCC
X-ORIGINAL-URL:https://opencirclemcc.com
X-WR-CALDESC:Events for Open Circle MCC
REFRESH-INTERVAL;VALUE=DURATION:PT1H
X-Robots-Tag:noindex
X-PUBLISHED-TTL:PT1H
BEGIN:VTIMEZONE
TZID:America/Halifax
BEGIN:DAYLIGHT
TZOFFSETFROM:-0400
TZOFFSETTO:-0300
TZNAME:ADT
DTSTART:20250309T060000
END:DAYLIGHT
BEGIN:STANDARD
TZOFFSETFROM:-0300
TZOFFSETTO:-0400
TZNAME:AST
DTSTART:20251102T050000
END:STANDARD
BEGIN:DAYLIGHT
TZOFFSETFROM:-0400
TZOFFSETTO:-0300
TZNAME:ADT
DTSTART:20260308T060000
END:DAYLIGHT
BEGIN:STANDARD
TZOFFSETFROM:-0300
TZOFFSETTO:-0400
TZNAME:AST
DTSTART:20261101T050000
END:STANDARD
BEGIN:DAYLIGHT
TZOFFSETFROM:-0400
TZOFFSETTO:-0300
TZNAME:ADT
DTSTART:20270314T060000
END:DAYLIGHT
BEGIN:STANDARD
TZOFFSETFROM:-0300
TZOFFSETTO:-0400
TZNAME:AST
DTSTART:20271107T050000
END:STANDARD
END:VTIMEZONE
BEGIN:VEVENT
DTSTART;TZID=America/Halifax:20260503T080000
DTEND;TZID=America/Halifax:20260503T170000
DTSTAMP:20260419T135341
CREATED:20260216T175323Z
LAST-MODIFIED:20260216T175809Z
UID:10000005-1777795200-1777827600@opencirclemcc.com
SUMMARY:Board of Directors Meeting
DESCRIPTION:1st Sunday of each month – Board of Directors Meeting
URL:https://opencirclemcc.com/event1/board-of-directors-meeting/2026-05-03/
END:VEVENT
BEGIN:VEVENT
DTSTART;TZID=America/Halifax:20260508T080000
DTEND;TZID=America/Halifax:20260512T170000
DTSTAMP:20260419T135341
CREATED:20260216T183855Z
LAST-MODIFIED:20260216T183855Z
UID:10000138-1778227200-1778605200@opencirclemcc.com
SUMMARY:Applications Now Open for LEAD 15!
DESCRIPTION:Are you ready to grow your faith\, deepen your leadership skills\, and connect with others across MCC? \nApplications are now open for North American LEAD 15\, our next lay leadership retreat and the first step in MCC’s signature leadership development program. \nCost: $400 USD (generous scholarships available) \nOnly 18 spots available – apply early! \nClick Here to Apply
URL:https://opencirclemcc.com/event1/applications-now-open-for-lead-15/
LOCATION:Church of the Trinity MCC\, Church of the Trinity MCC\, Sarasota\, FL\, United States
END:VEVENT
BEGIN:VEVENT
DTSTART;TZID=America/Halifax:20260510T080000
DTEND;TZID=America/Halifax:20260510T170000
DTSTAMP:20260419T135341
CREATED:20260216T180029Z
LAST-MODIFIED:20260216T180029Z
UID:10000065-1778400000-1778432400@opencirclemcc.com
SUMMARY:Breakfast Served After Service
DESCRIPTION:2nd Sunday of each month – Breakfast served after service
URL:https://opencirclemcc.com/event1/breakfast-served-after-service/2026-05-10/
END:VEVENT
BEGIN:VEVENT
DTSTART;TZID=America/Halifax:20260512T170000
DTEND;TZID=America/Halifax:20260512T220000
DTSTAMP:20260419T135341
CREATED:20260216T181049Z
LAST-MODIFIED:20260216T181511Z
UID:10000125-1778605200-1778623200@opencirclemcc.com
SUMMARY:Orlando Gay Chorus Holiday Concert
DESCRIPTION:Sponsored by Open Circle MCC Church \nTicket price – $25.00 in advance online ($35.00 at the door)
URL:https://opencirclemcc.com/event1/orlando-gay-chorus-holiday-concert/
LOCATION:UCC at the Villages\, 12514 County Rd. 101\, Oxford\, FL 34484\, FL\, 34484\, United States
END:VEVENT
BEGIN:VEVENT
DTSTART;TZID=America/Halifax:20260524T080000
DTEND;TZID=America/Halifax:20260524T170000
DTSTAMP:20260419T135341
CREATED:20260216T183509Z
LAST-MODIFIED:20260216T183509Z
UID:10000136-1779609600-1779642000@opencirclemcc.com
SUMMARY:Rev. Dr. Nancy Wilson Has Announced Her Retirement From Suncoast MCC
DESCRIPTION:Dr. Nancy with her final Sunday on May 24\, 2026. She has served MCC for 56 years\, including nine years at SunCoast. We honor her extraordinary legacy of leadership and ministry.
URL:https://opencirclemcc.com/event1/rev-dr-nancy-wilson-has-announced-her-retirement-from-suncoast-mcc/
END:VEVENT
END:VCALENDAR