BEGIN:VCALENDAR
VERSION:2.0
PRODID:-//Open Circle MCC - ECPv6.15.14//NONSGML v1.0//EN
CALSCALE:GREGORIAN
METHOD:PUBLISH
X-ORIGINAL-URL:https://opencirclemcc.com
X-WR-CALDESC:Events for Open Circle MCC
REFRESH-INTERVAL;VALUE=DURATION:PT1H
X-Robots-Tag:noindex
X-PUBLISHED-TTL:PT1H
BEGIN:VTIMEZONE
TZID:America/Halifax
BEGIN:DAYLIGHT
TZOFFSETFROM:-0400
TZOFFSETTO:-0300
TZNAME:ADT
DTSTART:20250309T060000
END:DAYLIGHT
BEGIN:STANDARD
TZOFFSETFROM:-0300
TZOFFSETTO:-0400
TZNAME:AST
DTSTART:20251102T050000
END:STANDARD
BEGIN:DAYLIGHT
TZOFFSETFROM:-0400
TZOFFSETTO:-0300
TZNAME:ADT
DTSTART:20260308T060000
END:DAYLIGHT
BEGIN:STANDARD
TZOFFSETFROM:-0300
TZOFFSETTO:-0400
TZNAME:AST
DTSTART:20261101T050000
END:STANDARD
BEGIN:DAYLIGHT
TZOFFSETFROM:-0400
TZOFFSETTO:-0300
TZNAME:ADT
DTSTART:20270314T060000
END:DAYLIGHT
BEGIN:STANDARD
TZOFFSETFROM:-0300
TZOFFSETTO:-0400
TZNAME:AST
DTSTART:20271107T050000
END:STANDARD
END:VTIMEZONE
BEGIN:VEVENT
DTSTART;TZID=America/Halifax:20260301T080000
DTEND;TZID=America/Halifax:20260301T170000
DTSTAMP:20260419T135640
CREATED:20260216T175323Z
LAST-MODIFIED:20260216T175809Z
UID:10000003-1772352000-1772384400@opencirclemcc.com
SUMMARY:Board of Directors Meeting
DESCRIPTION:1st Sunday of each month – Board of Directors Meeting
URL:https://opencirclemcc.com/event1/board-of-directors-meeting/2026-03-01/
END:VEVENT
BEGIN:VEVENT
DTSTART;TZID=America/Halifax:20260308T080000
DTEND;TZID=America/Halifax:20260308T170000
DTSTAMP:20260419T135640
CREATED:20260216T180029Z
LAST-MODIFIED:20260216T180029Z
UID:10000063-1772956800-1772989200@opencirclemcc.com
SUMMARY:Breakfast Served After Service
DESCRIPTION:2nd Sunday of each month – Breakfast served after service
URL:https://opencirclemcc.com/event1/breakfast-served-after-service/2026-03-08/
END:VEVENT
BEGIN:VEVENT
DTSTART;TZID=America/Halifax:20260315T080000
DTEND;TZID=America/Halifax:20260315T170000
DTSTAMP:20260419T135640
CREATED:20260216T180201Z
LAST-MODIFIED:20260216T180201Z
UID:10000123-1773561600-1773594000@opencirclemcc.com
SUMMARY:50/50 Fundraiser Drawing
DESCRIPTION:
URL:https://opencirclemcc.com/event1/50-50-fundraiser-drawing/
END:VEVENT
BEGIN:VEVENT
DTSTART;TZID=America/Halifax:20260315T080000
DTEND;TZID=America/Halifax:20260315T170000
DTSTAMP:20260419T135640
CREATED:20260216T182407Z
LAST-MODIFIED:20260216T182440Z
UID:10000129-1773561600-1773594000@opencirclemcc.com
SUMMARY:Installation of Rev. Kevin Konkle
DESCRIPTION:MCC of the Palm Beaches
URL:https://opencirclemcc.com/event1/installation-of-rev-kevin-konkle/
END:VEVENT
BEGIN:VEVENT
DTSTART;TZID=America/Halifax:20260315T100000
DTEND;TZID=America/Halifax:20260315T170000
DTSTAMP:20260419T135640
CREATED:20260216T194204Z
LAST-MODIFIED:20260216T194204Z
UID:10000143-1773568800-1773594000@opencirclemcc.com
SUMMARY:ST. PATRICKS DAY LUNCHEON
DESCRIPTION:CORNED BEEF AND CABBAGE WITH SIDES AND DESERT\n$5.00 PER PLATE\nTHE DRAWING FOR THE 50/50 WILL BE ANNOUNCED AT THIS EVENT!
URL:https://opencirclemcc.com/event1/st-patricks-day-luncheon/
END:VEVENT
BEGIN:VEVENT
DTSTART;TZID=America/Halifax:20260315T103000
DTEND;TZID=America/Halifax:20260315T170000
DTSTAMP:20260419T135640
CREATED:20260216T183107Z
LAST-MODIFIED:20260216T183135Z
UID:10000133-1773570600-1773594000@opencirclemcc.com
SUMMARY:Kevin Konkle will be officially installed as pastor of MCC of the Palm Beaches
DESCRIPTION:On March 15 at 10:30 a.m. Guest speaker will be Rev. Cathy Alexander\, with Rev. Renae Phillips officiating. A joyful celebration is planned for this important milestone.
URL:https://opencirclemcc.com/event1/kevin-konkle-will-be-officially-installed-as-pastor-of-mcc-of-the-palm-beaches/
END:VEVENT
BEGIN:VEVENT
DTSTART;TZID=America/Halifax:20260322T080000
DTEND;TZID=America/Halifax:20260322T170000
DTSTAMP:20260419T135640
CREATED:20260216T182535Z
LAST-MODIFIED:20260216T182535Z
UID:10000130-1774166400-1774198800@opencirclemcc.com
SUMMARY:Marvin Matthews in concert
DESCRIPTION:MCC of the Palm Beaches
URL:https://opencirclemcc.com/event1/marvin-matthews-in-concert/
END:VEVENT
BEGIN:VEVENT
DTSTART;TZID=America/Halifax:20260329T080000
DTEND;TZID=America/Halifax:20260329T170000
DTSTAMP:20260419T135640
CREATED:20260216T180306Z
LAST-MODIFIED:20260216T180306Z
UID:10000124-1774771200-1774803600@opencirclemcc.com
SUMMARY:Church Members Meeting
DESCRIPTION:
URL:https://opencirclemcc.com/event1/church-members-meeting/
END:VEVENT
END:VCALENDAR