BEGIN:VCALENDAR
VERSION:2.0
PRODID:-//Open Circle MCC - ECPv6.15.14//NONSGML v1.0//EN
CALSCALE:GREGORIAN
METHOD:PUBLISH
X-WR-CALNAME:Open Circle MCC
X-ORIGINAL-URL:https://opencirclemcc.com
X-WR-CALDESC:Events for Open Circle MCC
REFRESH-INTERVAL;VALUE=DURATION:PT1H
X-Robots-Tag:noindex
X-PUBLISHED-TTL:PT1H
BEGIN:VTIMEZONE
TZID:America/Halifax
BEGIN:DAYLIGHT
TZOFFSETFROM:-0400
TZOFFSETTO:-0300
TZNAME:ADT
DTSTART:20280312T060000
END:DAYLIGHT
BEGIN:STANDARD
TZOFFSETFROM:-0300
TZOFFSETTO:-0400
TZNAME:AST
DTSTART:20281105T050000
END:STANDARD
BEGIN:DAYLIGHT
TZOFFSETFROM:-0400
TZOFFSETTO:-0300
TZNAME:ADT
DTSTART:20290311T060000
END:DAYLIGHT
BEGIN:STANDARD
TZOFFSETFROM:-0300
TZOFFSETTO:-0400
TZNAME:AST
DTSTART:20291104T050000
END:STANDARD
BEGIN:DAYLIGHT
TZOFFSETFROM:-0400
TZOFFSETTO:-0300
TZNAME:ADT
DTSTART:20300310T060000
END:DAYLIGHT
BEGIN:STANDARD
TZOFFSETFROM:-0300
TZOFFSETTO:-0400
TZNAME:AST
DTSTART:20301103T050000
END:STANDARD
BEGIN:DAYLIGHT
TZOFFSETFROM:-0400
TZOFFSETTO:-0300
TZNAME:ADT
DTSTART:20310309T060000
END:DAYLIGHT
BEGIN:STANDARD
TZOFFSETFROM:-0300
TZOFFSETTO:-0400
TZNAME:AST
DTSTART:20311102T050000
END:STANDARD
END:VTIMEZONE
BEGIN:VEVENT
DTSTART;TZID=America/Halifax:20290107T080000
DTEND;TZID=America/Halifax:20290107T170000
DTSTAMP:20260420T020523
CREATED:20260216T175323Z
LAST-MODIFIED:20260216T175809Z
UID:10000037-1862467200-1862499600@opencirclemcc.com
SUMMARY:Board of Directors Meeting
DESCRIPTION:1st Sunday of each month – Board of Directors Meeting
URL:https://opencirclemcc.com/event1/board-of-directors-meeting/2029-01-07/
END:VEVENT
BEGIN:VEVENT
DTSTART;TZID=America/Halifax:20290114T080000
DTEND;TZID=America/Halifax:20290114T170000
DTSTAMP:20260420T020523
CREATED:20260216T180029Z
LAST-MODIFIED:20260216T180029Z
UID:10000097-1863072000-1863104400@opencirclemcc.com
SUMMARY:Breakfast Served After Service
DESCRIPTION:2nd Sunday of each month – Breakfast served after service
URL:https://opencirclemcc.com/event1/breakfast-served-after-service/2029-01-14/
END:VEVENT
BEGIN:VEVENT
DTSTART;TZID=America/Halifax:20290204T080000
DTEND;TZID=America/Halifax:20290204T170000
DTSTAMP:20260420T020523
CREATED:20260216T175323Z
LAST-MODIFIED:20260216T175809Z
UID:10000038-1864886400-1864918800@opencirclemcc.com
SUMMARY:Board of Directors Meeting
DESCRIPTION:1st Sunday of each month – Board of Directors Meeting
URL:https://opencirclemcc.com/event1/board-of-directors-meeting/2029-02-04/
END:VEVENT
BEGIN:VEVENT
DTSTART;TZID=America/Halifax:20290211T080000
DTEND;TZID=America/Halifax:20290211T170000
DTSTAMP:20260420T020523
CREATED:20260216T180029Z
LAST-MODIFIED:20260216T180029Z
UID:10000098-1865491200-1865523600@opencirclemcc.com
SUMMARY:Breakfast Served After Service
DESCRIPTION:2nd Sunday of each month – Breakfast served after service
URL:https://opencirclemcc.com/event1/breakfast-served-after-service/2029-02-11/
END:VEVENT
BEGIN:VEVENT
DTSTART;TZID=America/Halifax:20290304T080000
DTEND;TZID=America/Halifax:20290304T170000
DTSTAMP:20260420T020523
CREATED:20260216T175323Z
LAST-MODIFIED:20260216T175809Z
UID:10000039-1867305600-1867338000@opencirclemcc.com
SUMMARY:Board of Directors Meeting
DESCRIPTION:1st Sunday of each month – Board of Directors Meeting
URL:https://opencirclemcc.com/event1/board-of-directors-meeting/2029-03-04/
END:VEVENT
BEGIN:VEVENT
DTSTART;TZID=America/Halifax:20290311T080000
DTEND;TZID=America/Halifax:20290311T170000
DTSTAMP:20260420T020523
CREATED:20260216T180029Z
LAST-MODIFIED:20260216T180029Z
UID:10000099-1867910400-1867942800@opencirclemcc.com
SUMMARY:Breakfast Served After Service
DESCRIPTION:2nd Sunday of each month – Breakfast served after service
URL:https://opencirclemcc.com/event1/breakfast-served-after-service/2029-03-11/
END:VEVENT
BEGIN:VEVENT
DTSTART;TZID=America/Halifax:20290401T080000
DTEND;TZID=America/Halifax:20290401T170000
DTSTAMP:20260420T020523
CREATED:20260216T175323Z
LAST-MODIFIED:20260216T175809Z
UID:10000040-1869724800-1869757200@opencirclemcc.com
SUMMARY:Board of Directors Meeting
DESCRIPTION:1st Sunday of each month – Board of Directors Meeting
URL:https://opencirclemcc.com/event1/board-of-directors-meeting/2029-04-01/
END:VEVENT
BEGIN:VEVENT
DTSTART;TZID=America/Halifax:20290408T080000
DTEND;TZID=America/Halifax:20290408T170000
DTSTAMP:20260420T020523
CREATED:20260216T180029Z
LAST-MODIFIED:20260216T180029Z
UID:10000100-1870329600-1870362000@opencirclemcc.com
SUMMARY:Breakfast Served After Service
DESCRIPTION:2nd Sunday of each month – Breakfast served after service
URL:https://opencirclemcc.com/event1/breakfast-served-after-service/2029-04-08/
END:VEVENT
BEGIN:VEVENT
DTSTART;TZID=America/Halifax:20290506T080000
DTEND;TZID=America/Halifax:20290506T170000
DTSTAMP:20260420T020523
CREATED:20260216T175323Z
LAST-MODIFIED:20260216T175809Z
UID:10000041-1872748800-1872781200@opencirclemcc.com
SUMMARY:Board of Directors Meeting
DESCRIPTION:1st Sunday of each month – Board of Directors Meeting
URL:https://opencirclemcc.com/event1/board-of-directors-meeting/2029-05-06/
END:VEVENT
BEGIN:VEVENT
DTSTART;TZID=America/Halifax:20290513T080000
DTEND;TZID=America/Halifax:20290513T170000
DTSTAMP:20260420T020523
CREATED:20260216T180029Z
LAST-MODIFIED:20260216T180029Z
UID:10000101-1873353600-1873386000@opencirclemcc.com
SUMMARY:Breakfast Served After Service
DESCRIPTION:2nd Sunday of each month – Breakfast served after service
URL:https://opencirclemcc.com/event1/breakfast-served-after-service/2029-05-13/
END:VEVENT
BEGIN:VEVENT
DTSTART;TZID=America/Halifax:20290603T080000
DTEND;TZID=America/Halifax:20290603T170000
DTSTAMP:20260420T020523
CREATED:20260216T175323Z
LAST-MODIFIED:20260216T175809Z
UID:10000042-1875168000-1875200400@opencirclemcc.com
SUMMARY:Board of Directors Meeting
DESCRIPTION:1st Sunday of each month – Board of Directors Meeting
URL:https://opencirclemcc.com/event1/board-of-directors-meeting/2029-06-03/
END:VEVENT
BEGIN:VEVENT
DTSTART;TZID=America/Halifax:20290610T080000
DTEND;TZID=America/Halifax:20290610T170000
DTSTAMP:20260420T020523
CREATED:20260216T180029Z
LAST-MODIFIED:20260216T180029Z
UID:10000102-1875772800-1875805200@opencirclemcc.com
SUMMARY:Breakfast Served After Service
DESCRIPTION:2nd Sunday of each month – Breakfast served after service
URL:https://opencirclemcc.com/event1/breakfast-served-after-service/2029-06-10/
END:VEVENT
BEGIN:VEVENT
DTSTART;TZID=America/Halifax:20290701T080000
DTEND;TZID=America/Halifax:20290701T170000
DTSTAMP:20260420T020523
CREATED:20260216T175323Z
LAST-MODIFIED:20260216T175809Z
UID:10000043-1877587200-1877619600@opencirclemcc.com
SUMMARY:Board of Directors Meeting
DESCRIPTION:1st Sunday of each month – Board of Directors Meeting
URL:https://opencirclemcc.com/event1/board-of-directors-meeting/2029-07-01/
END:VEVENT
BEGIN:VEVENT
DTSTART;TZID=America/Halifax:20290708T080000
DTEND;TZID=America/Halifax:20290708T170000
DTSTAMP:20260420T020523
CREATED:20260216T180029Z
LAST-MODIFIED:20260216T180029Z
UID:10000103-1878192000-1878224400@opencirclemcc.com
SUMMARY:Breakfast Served After Service
DESCRIPTION:2nd Sunday of each month – Breakfast served after service
URL:https://opencirclemcc.com/event1/breakfast-served-after-service/2029-07-08/
END:VEVENT
BEGIN:VEVENT
DTSTART;TZID=America/Halifax:20290805T080000
DTEND;TZID=America/Halifax:20290805T170000
DTSTAMP:20260420T020523
CREATED:20260216T175323Z
LAST-MODIFIED:20260216T175809Z
UID:10000044-1880611200-1880643600@opencirclemcc.com
SUMMARY:Board of Directors Meeting
DESCRIPTION:1st Sunday of each month – Board of Directors Meeting
URL:https://opencirclemcc.com/event1/board-of-directors-meeting/2029-08-05/
END:VEVENT
BEGIN:VEVENT
DTSTART;TZID=America/Halifax:20290812T080000
DTEND;TZID=America/Halifax:20290812T170000
DTSTAMP:20260420T020523
CREATED:20260216T180029Z
LAST-MODIFIED:20260216T180029Z
UID:10000104-1881216000-1881248400@opencirclemcc.com
SUMMARY:Breakfast Served After Service
DESCRIPTION:2nd Sunday of each month – Breakfast served after service
URL:https://opencirclemcc.com/event1/breakfast-served-after-service/2029-08-12/
END:VEVENT
BEGIN:VEVENT
DTSTART;TZID=America/Halifax:20290902T080000
DTEND;TZID=America/Halifax:20290902T170000
DTSTAMP:20260420T020523
CREATED:20260216T175323Z
LAST-MODIFIED:20260216T175809Z
UID:10000045-1883030400-1883062800@opencirclemcc.com
SUMMARY:Board of Directors Meeting
DESCRIPTION:1st Sunday of each month – Board of Directors Meeting
URL:https://opencirclemcc.com/event1/board-of-directors-meeting/2029-09-02/
END:VEVENT
BEGIN:VEVENT
DTSTART;TZID=America/Halifax:20290909T080000
DTEND;TZID=America/Halifax:20290909T170000
DTSTAMP:20260420T020523
CREATED:20260216T180029Z
LAST-MODIFIED:20260216T180029Z
UID:10000105-1883635200-1883667600@opencirclemcc.com
SUMMARY:Breakfast Served After Service
DESCRIPTION:2nd Sunday of each month – Breakfast served after service
URL:https://opencirclemcc.com/event1/breakfast-served-after-service/2029-09-09/
END:VEVENT
BEGIN:VEVENT
DTSTART;TZID=America/Halifax:20291007T080000
DTEND;TZID=America/Halifax:20291007T170000
DTSTAMP:20260420T020523
CREATED:20260216T175323Z
LAST-MODIFIED:20260216T175809Z
UID:10000046-1886054400-1886086800@opencirclemcc.com
SUMMARY:Board of Directors Meeting
DESCRIPTION:1st Sunday of each month – Board of Directors Meeting
URL:https://opencirclemcc.com/event1/board-of-directors-meeting/2029-10-07/
END:VEVENT
BEGIN:VEVENT
DTSTART;TZID=America/Halifax:20291014T080000
DTEND;TZID=America/Halifax:20291014T170000
DTSTAMP:20260420T020523
CREATED:20260216T180029Z
LAST-MODIFIED:20260216T180029Z
UID:10000106-1886659200-1886691600@opencirclemcc.com
SUMMARY:Breakfast Served After Service
DESCRIPTION:2nd Sunday of each month – Breakfast served after service
URL:https://opencirclemcc.com/event1/breakfast-served-after-service/2029-10-14/
END:VEVENT
BEGIN:VEVENT
DTSTART;TZID=America/Halifax:20291104T080000
DTEND;TZID=America/Halifax:20291104T170000
DTSTAMP:20260420T020523
CREATED:20260216T175323Z
LAST-MODIFIED:20260216T175809Z
UID:10000047-1888473600-1888506000@opencirclemcc.com
SUMMARY:Board of Directors Meeting
DESCRIPTION:1st Sunday of each month – Board of Directors Meeting
URL:https://opencirclemcc.com/event1/board-of-directors-meeting/2029-11-04/
END:VEVENT
BEGIN:VEVENT
DTSTART;TZID=America/Halifax:20291111T080000
DTEND;TZID=America/Halifax:20291111T170000
DTSTAMP:20260420T020523
CREATED:20260216T180029Z
LAST-MODIFIED:20260216T180029Z
UID:10000107-1889078400-1889110800@opencirclemcc.com
SUMMARY:Breakfast Served After Service
DESCRIPTION:2nd Sunday of each month – Breakfast served after service
URL:https://opencirclemcc.com/event1/breakfast-served-after-service/2029-11-11/
END:VEVENT
BEGIN:VEVENT
DTSTART;TZID=America/Halifax:20291202T080000
DTEND;TZID=America/Halifax:20291202T170000
DTSTAMP:20260420T020523
CREATED:20260216T175323Z
LAST-MODIFIED:20260216T175809Z
UID:10000048-1890892800-1890925200@opencirclemcc.com
SUMMARY:Board of Directors Meeting
DESCRIPTION:1st Sunday of each month – Board of Directors Meeting
URL:https://opencirclemcc.com/event1/board-of-directors-meeting/2029-12-02/
END:VEVENT
BEGIN:VEVENT
DTSTART;TZID=America/Halifax:20291209T080000
DTEND;TZID=America/Halifax:20291209T170000
DTSTAMP:20260420T020523
CREATED:20260216T180029Z
LAST-MODIFIED:20260216T180029Z
UID:10000108-1891497600-1891530000@opencirclemcc.com
SUMMARY:Breakfast Served After Service
DESCRIPTION:2nd Sunday of each month – Breakfast served after service
URL:https://opencirclemcc.com/event1/breakfast-served-after-service/2029-12-09/
END:VEVENT
BEGIN:VEVENT
DTSTART;TZID=America/Halifax:20300106T080000
DTEND;TZID=America/Halifax:20300106T170000
DTSTAMP:20260420T020523
CREATED:20260216T175323Z
LAST-MODIFIED:20260216T175809Z
UID:10000049-1893916800-1893949200@opencirclemcc.com
SUMMARY:Board of Directors Meeting
DESCRIPTION:1st Sunday of each month – Board of Directors Meeting
URL:https://opencirclemcc.com/event1/board-of-directors-meeting/2030-01-06/
END:VEVENT
BEGIN:VEVENT
DTSTART;TZID=America/Halifax:20300113T080000
DTEND;TZID=America/Halifax:20300113T170000
DTSTAMP:20260420T020523
CREATED:20260216T180029Z
LAST-MODIFIED:20260216T180029Z
UID:10000109-1894521600-1894554000@opencirclemcc.com
SUMMARY:Breakfast Served After Service
DESCRIPTION:2nd Sunday of each month – Breakfast served after service
URL:https://opencirclemcc.com/event1/breakfast-served-after-service/2030-01-13/
END:VEVENT
BEGIN:VEVENT
DTSTART;TZID=America/Halifax:20300203T080000
DTEND;TZID=America/Halifax:20300203T170000
DTSTAMP:20260420T020523
CREATED:20260216T175323Z
LAST-MODIFIED:20260216T175809Z
UID:10000050-1896336000-1896368400@opencirclemcc.com
SUMMARY:Board of Directors Meeting
DESCRIPTION:1st Sunday of each month – Board of Directors Meeting
URL:https://opencirclemcc.com/event1/board-of-directors-meeting/2030-02-03/
END:VEVENT
BEGIN:VEVENT
DTSTART;TZID=America/Halifax:20300210T080000
DTEND;TZID=America/Halifax:20300210T170000
DTSTAMP:20260420T020523
CREATED:20260216T180029Z
LAST-MODIFIED:20260216T180029Z
UID:10000110-1896940800-1896973200@opencirclemcc.com
SUMMARY:Breakfast Served After Service
DESCRIPTION:2nd Sunday of each month – Breakfast served after service
URL:https://opencirclemcc.com/event1/breakfast-served-after-service/2030-02-10/
END:VEVENT
BEGIN:VEVENT
DTSTART;TZID=America/Halifax:20300303T080000
DTEND;TZID=America/Halifax:20300303T170000
DTSTAMP:20260420T020523
CREATED:20260216T175323Z
LAST-MODIFIED:20260216T175809Z
UID:10000051-1898755200-1898787600@opencirclemcc.com
SUMMARY:Board of Directors Meeting
DESCRIPTION:1st Sunday of each month – Board of Directors Meeting
URL:https://opencirclemcc.com/event1/board-of-directors-meeting/2030-03-03/
END:VEVENT
BEGIN:VEVENT
DTSTART;TZID=America/Halifax:20300310T080000
DTEND;TZID=America/Halifax:20300310T170000
DTSTAMP:20260420T020523
CREATED:20260216T180029Z
LAST-MODIFIED:20260216T180029Z
UID:10000111-1899360000-1899392400@opencirclemcc.com
SUMMARY:Breakfast Served After Service
DESCRIPTION:2nd Sunday of each month – Breakfast served after service
URL:https://opencirclemcc.com/event1/breakfast-served-after-service/2030-03-10/
END:VEVENT
END:VCALENDAR