BEGIN:VCALENDAR
VERSION:2.0
PRODID:-//Open Circle MCC - ECPv6.15.14//NONSGML v1.0//EN
CALSCALE:GREGORIAN
METHOD:PUBLISH
X-WR-CALNAME:Open Circle MCC
X-ORIGINAL-URL:https://opencirclemcc.com
X-WR-CALDESC:Events for Open Circle MCC
REFRESH-INTERVAL;VALUE=DURATION:PT1H
X-Robots-Tag:noindex
X-PUBLISHED-TTL:PT1H
BEGIN:VTIMEZONE
TZID:America/Halifax
BEGIN:DAYLIGHT
TZOFFSETFROM:-0400
TZOFFSETTO:-0300
TZNAME:ADT
DTSTART:20270314T060000
END:DAYLIGHT
BEGIN:STANDARD
TZOFFSETFROM:-0300
TZOFFSETTO:-0400
TZNAME:AST
DTSTART:20271107T050000
END:STANDARD
BEGIN:DAYLIGHT
TZOFFSETFROM:-0400
TZOFFSETTO:-0300
TZNAME:ADT
DTSTART:20280312T060000
END:DAYLIGHT
BEGIN:STANDARD
TZOFFSETFROM:-0300
TZOFFSETTO:-0400
TZNAME:AST
DTSTART:20281105T050000
END:STANDARD
BEGIN:DAYLIGHT
TZOFFSETFROM:-0400
TZOFFSETTO:-0300
TZNAME:ADT
DTSTART:20290311T060000
END:DAYLIGHT
BEGIN:STANDARD
TZOFFSETFROM:-0300
TZOFFSETTO:-0400
TZNAME:AST
DTSTART:20291104T050000
END:STANDARD
BEGIN:DAYLIGHT
TZOFFSETFROM:-0400
TZOFFSETTO:-0300
TZNAME:ADT
DTSTART:20300310T060000
END:DAYLIGHT
BEGIN:STANDARD
TZOFFSETFROM:-0300
TZOFFSETTO:-0400
TZNAME:AST
DTSTART:20301103T050000
END:STANDARD
END:VTIMEZONE
BEGIN:VEVENT
DTSTART;TZID=America/Halifax:20280312T080000
DTEND;TZID=America/Halifax:20280312T170000
DTSTAMP:20260420T052604
CREATED:20260216T180029Z
LAST-MODIFIED:20260216T180029Z
UID:10000087-1836460800-1836493200@opencirclemcc.com
SUMMARY:Breakfast Served After Service
DESCRIPTION:2nd Sunday of each month – Breakfast served after service
URL:https://opencirclemcc.com/event1/breakfast-served-after-service/2028-03-12/
END:VEVENT
BEGIN:VEVENT
DTSTART;TZID=America/Halifax:20280402T080000
DTEND;TZID=America/Halifax:20280402T170000
DTSTAMP:20260420T052604
CREATED:20260216T175323Z
LAST-MODIFIED:20260216T175809Z
UID:10000028-1838275200-1838307600@opencirclemcc.com
SUMMARY:Board of Directors Meeting
DESCRIPTION:1st Sunday of each month – Board of Directors Meeting
URL:https://opencirclemcc.com/event1/board-of-directors-meeting/2028-04-02/
END:VEVENT
BEGIN:VEVENT
DTSTART;TZID=America/Halifax:20280409T080000
DTEND;TZID=America/Halifax:20280409T170000
DTSTAMP:20260420T052604
CREATED:20260216T180029Z
LAST-MODIFIED:20260216T180029Z
UID:10000088-1838880000-1838912400@opencirclemcc.com
SUMMARY:Breakfast Served After Service
DESCRIPTION:2nd Sunday of each month – Breakfast served after service
URL:https://opencirclemcc.com/event1/breakfast-served-after-service/2028-04-09/
END:VEVENT
BEGIN:VEVENT
DTSTART;TZID=America/Halifax:20280507T080000
DTEND;TZID=America/Halifax:20280507T170000
DTSTAMP:20260420T052604
CREATED:20260216T175323Z
LAST-MODIFIED:20260216T175809Z
UID:10000029-1841299200-1841331600@opencirclemcc.com
SUMMARY:Board of Directors Meeting
DESCRIPTION:1st Sunday of each month – Board of Directors Meeting
URL:https://opencirclemcc.com/event1/board-of-directors-meeting/2028-05-07/
END:VEVENT
BEGIN:VEVENT
DTSTART;TZID=America/Halifax:20280514T080000
DTEND;TZID=America/Halifax:20280514T170000
DTSTAMP:20260420T052604
CREATED:20260216T180029Z
LAST-MODIFIED:20260216T180029Z
UID:10000089-1841904000-1841936400@opencirclemcc.com
SUMMARY:Breakfast Served After Service
DESCRIPTION:2nd Sunday of each month – Breakfast served after service
URL:https://opencirclemcc.com/event1/breakfast-served-after-service/2028-05-14/
END:VEVENT
BEGIN:VEVENT
DTSTART;TZID=America/Halifax:20280604T080000
DTEND;TZID=America/Halifax:20280604T170000
DTSTAMP:20260420T052604
CREATED:20260216T175323Z
LAST-MODIFIED:20260216T175809Z
UID:10000030-1843718400-1843750800@opencirclemcc.com
SUMMARY:Board of Directors Meeting
DESCRIPTION:1st Sunday of each month – Board of Directors Meeting
URL:https://opencirclemcc.com/event1/board-of-directors-meeting/2028-06-04/
END:VEVENT
BEGIN:VEVENT
DTSTART;TZID=America/Halifax:20280611T080000
DTEND;TZID=America/Halifax:20280611T170000
DTSTAMP:20260420T052604
CREATED:20260216T180029Z
LAST-MODIFIED:20260216T180029Z
UID:10000090-1844323200-1844355600@opencirclemcc.com
SUMMARY:Breakfast Served After Service
DESCRIPTION:2nd Sunday of each month – Breakfast served after service
URL:https://opencirclemcc.com/event1/breakfast-served-after-service/2028-06-11/
END:VEVENT
BEGIN:VEVENT
DTSTART;TZID=America/Halifax:20280702T080000
DTEND;TZID=America/Halifax:20280702T170000
DTSTAMP:20260420T052604
CREATED:20260216T175323Z
LAST-MODIFIED:20260216T175809Z
UID:10000031-1846137600-1846170000@opencirclemcc.com
SUMMARY:Board of Directors Meeting
DESCRIPTION:1st Sunday of each month – Board of Directors Meeting
URL:https://opencirclemcc.com/event1/board-of-directors-meeting/2028-07-02/
END:VEVENT
BEGIN:VEVENT
DTSTART;TZID=America/Halifax:20280709T080000
DTEND;TZID=America/Halifax:20280709T170000
DTSTAMP:20260420T052604
CREATED:20260216T180029Z
LAST-MODIFIED:20260216T180029Z
UID:10000091-1846742400-1846774800@opencirclemcc.com
SUMMARY:Breakfast Served After Service
DESCRIPTION:2nd Sunday of each month – Breakfast served after service
URL:https://opencirclemcc.com/event1/breakfast-served-after-service/2028-07-09/
END:VEVENT
BEGIN:VEVENT
DTSTART;TZID=America/Halifax:20280806T080000
DTEND;TZID=America/Halifax:20280806T170000
DTSTAMP:20260420T052604
CREATED:20260216T175323Z
LAST-MODIFIED:20260216T175809Z
UID:10000032-1849161600-1849194000@opencirclemcc.com
SUMMARY:Board of Directors Meeting
DESCRIPTION:1st Sunday of each month – Board of Directors Meeting
URL:https://opencirclemcc.com/event1/board-of-directors-meeting/2028-08-06/
END:VEVENT
BEGIN:VEVENT
DTSTART;TZID=America/Halifax:20280813T080000
DTEND;TZID=America/Halifax:20280813T170000
DTSTAMP:20260420T052604
CREATED:20260216T180029Z
LAST-MODIFIED:20260216T180029Z
UID:10000092-1849766400-1849798800@opencirclemcc.com
SUMMARY:Breakfast Served After Service
DESCRIPTION:2nd Sunday of each month – Breakfast served after service
URL:https://opencirclemcc.com/event1/breakfast-served-after-service/2028-08-13/
END:VEVENT
BEGIN:VEVENT
DTSTART;TZID=America/Halifax:20280903T080000
DTEND;TZID=America/Halifax:20280903T170000
DTSTAMP:20260420T052604
CREATED:20260216T175323Z
LAST-MODIFIED:20260216T175809Z
UID:10000033-1851580800-1851613200@opencirclemcc.com
SUMMARY:Board of Directors Meeting
DESCRIPTION:1st Sunday of each month – Board of Directors Meeting
URL:https://opencirclemcc.com/event1/board-of-directors-meeting/2028-09-03/
END:VEVENT
BEGIN:VEVENT
DTSTART;TZID=America/Halifax:20280910T080000
DTEND;TZID=America/Halifax:20280910T170000
DTSTAMP:20260420T052604
CREATED:20260216T180029Z
LAST-MODIFIED:20260216T180029Z
UID:10000093-1852185600-1852218000@opencirclemcc.com
SUMMARY:Breakfast Served After Service
DESCRIPTION:2nd Sunday of each month – Breakfast served after service
URL:https://opencirclemcc.com/event1/breakfast-served-after-service/2028-09-10/
END:VEVENT
BEGIN:VEVENT
DTSTART;TZID=America/Halifax:20281001T080000
DTEND;TZID=America/Halifax:20281001T170000
DTSTAMP:20260420T052604
CREATED:20260216T175323Z
LAST-MODIFIED:20260216T175809Z
UID:10000034-1854000000-1854032400@opencirclemcc.com
SUMMARY:Board of Directors Meeting
DESCRIPTION:1st Sunday of each month – Board of Directors Meeting
URL:https://opencirclemcc.com/event1/board-of-directors-meeting/2028-10-01/
END:VEVENT
BEGIN:VEVENT
DTSTART;TZID=America/Halifax:20281008T080000
DTEND;TZID=America/Halifax:20281008T170000
DTSTAMP:20260420T052604
CREATED:20260216T180029Z
LAST-MODIFIED:20260216T180029Z
UID:10000094-1854604800-1854637200@opencirclemcc.com
SUMMARY:Breakfast Served After Service
DESCRIPTION:2nd Sunday of each month – Breakfast served after service
URL:https://opencirclemcc.com/event1/breakfast-served-after-service/2028-10-08/
END:VEVENT
BEGIN:VEVENT
DTSTART;TZID=America/Halifax:20281105T080000
DTEND;TZID=America/Halifax:20281105T170000
DTSTAMP:20260420T052604
CREATED:20260216T175323Z
LAST-MODIFIED:20260216T175809Z
UID:10000035-1857024000-1857056400@opencirclemcc.com
SUMMARY:Board of Directors Meeting
DESCRIPTION:1st Sunday of each month – Board of Directors Meeting
URL:https://opencirclemcc.com/event1/board-of-directors-meeting/2028-11-05/
END:VEVENT
BEGIN:VEVENT
DTSTART;TZID=America/Halifax:20281112T080000
DTEND;TZID=America/Halifax:20281112T170000
DTSTAMP:20260420T052604
CREATED:20260216T180029Z
LAST-MODIFIED:20260216T180029Z
UID:10000095-1857628800-1857661200@opencirclemcc.com
SUMMARY:Breakfast Served After Service
DESCRIPTION:2nd Sunday of each month – Breakfast served after service
URL:https://opencirclemcc.com/event1/breakfast-served-after-service/2028-11-12/
END:VEVENT
BEGIN:VEVENT
DTSTART;TZID=America/Halifax:20281203T080000
DTEND;TZID=America/Halifax:20281203T170000
DTSTAMP:20260420T052604
CREATED:20260216T175323Z
LAST-MODIFIED:20260216T175809Z
UID:10000036-1859443200-1859475600@opencirclemcc.com
SUMMARY:Board of Directors Meeting
DESCRIPTION:1st Sunday of each month – Board of Directors Meeting
URL:https://opencirclemcc.com/event1/board-of-directors-meeting/2028-12-03/
END:VEVENT
BEGIN:VEVENT
DTSTART;TZID=America/Halifax:20281210T080000
DTEND;TZID=America/Halifax:20281210T170000
DTSTAMP:20260420T052604
CREATED:20260216T180029Z
LAST-MODIFIED:20260216T180029Z
UID:10000096-1860048000-1860080400@opencirclemcc.com
SUMMARY:Breakfast Served After Service
DESCRIPTION:2nd Sunday of each month – Breakfast served after service
URL:https://opencirclemcc.com/event1/breakfast-served-after-service/2028-12-10/
END:VEVENT
BEGIN:VEVENT
DTSTART;TZID=America/Halifax:20290107T080000
DTEND;TZID=America/Halifax:20290107T170000
DTSTAMP:20260420T052604
CREATED:20260216T175323Z
LAST-MODIFIED:20260216T175809Z
UID:10000037-1862467200-1862499600@opencirclemcc.com
SUMMARY:Board of Directors Meeting
DESCRIPTION:1st Sunday of each month – Board of Directors Meeting
URL:https://opencirclemcc.com/event1/board-of-directors-meeting/2029-01-07/
END:VEVENT
BEGIN:VEVENT
DTSTART;TZID=America/Halifax:20290114T080000
DTEND;TZID=America/Halifax:20290114T170000
DTSTAMP:20260420T052604
CREATED:20260216T180029Z
LAST-MODIFIED:20260216T180029Z
UID:10000097-1863072000-1863104400@opencirclemcc.com
SUMMARY:Breakfast Served After Service
DESCRIPTION:2nd Sunday of each month – Breakfast served after service
URL:https://opencirclemcc.com/event1/breakfast-served-after-service/2029-01-14/
END:VEVENT
BEGIN:VEVENT
DTSTART;TZID=America/Halifax:20290204T080000
DTEND;TZID=America/Halifax:20290204T170000
DTSTAMP:20260420T052604
CREATED:20260216T175323Z
LAST-MODIFIED:20260216T175809Z
UID:10000038-1864886400-1864918800@opencirclemcc.com
SUMMARY:Board of Directors Meeting
DESCRIPTION:1st Sunday of each month – Board of Directors Meeting
URL:https://opencirclemcc.com/event1/board-of-directors-meeting/2029-02-04/
END:VEVENT
BEGIN:VEVENT
DTSTART;TZID=America/Halifax:20290211T080000
DTEND;TZID=America/Halifax:20290211T170000
DTSTAMP:20260420T052604
CREATED:20260216T180029Z
LAST-MODIFIED:20260216T180029Z
UID:10000098-1865491200-1865523600@opencirclemcc.com
SUMMARY:Breakfast Served After Service
DESCRIPTION:2nd Sunday of each month – Breakfast served after service
URL:https://opencirclemcc.com/event1/breakfast-served-after-service/2029-02-11/
END:VEVENT
BEGIN:VEVENT
DTSTART;TZID=America/Halifax:20290304T080000
DTEND;TZID=America/Halifax:20290304T170000
DTSTAMP:20260420T052604
CREATED:20260216T175323Z
LAST-MODIFIED:20260216T175809Z
UID:10000039-1867305600-1867338000@opencirclemcc.com
SUMMARY:Board of Directors Meeting
DESCRIPTION:1st Sunday of each month – Board of Directors Meeting
URL:https://opencirclemcc.com/event1/board-of-directors-meeting/2029-03-04/
END:VEVENT
BEGIN:VEVENT
DTSTART;TZID=America/Halifax:20290311T080000
DTEND;TZID=America/Halifax:20290311T170000
DTSTAMP:20260420T052604
CREATED:20260216T180029Z
LAST-MODIFIED:20260216T180029Z
UID:10000099-1867910400-1867942800@opencirclemcc.com
SUMMARY:Breakfast Served After Service
DESCRIPTION:2nd Sunday of each month – Breakfast served after service
URL:https://opencirclemcc.com/event1/breakfast-served-after-service/2029-03-11/
END:VEVENT
BEGIN:VEVENT
DTSTART;TZID=America/Halifax:20290401T080000
DTEND;TZID=America/Halifax:20290401T170000
DTSTAMP:20260420T052604
CREATED:20260216T175323Z
LAST-MODIFIED:20260216T175809Z
UID:10000040-1869724800-1869757200@opencirclemcc.com
SUMMARY:Board of Directors Meeting
DESCRIPTION:1st Sunday of each month – Board of Directors Meeting
URL:https://opencirclemcc.com/event1/board-of-directors-meeting/2029-04-01/
END:VEVENT
BEGIN:VEVENT
DTSTART;TZID=America/Halifax:20290408T080000
DTEND;TZID=America/Halifax:20290408T170000
DTSTAMP:20260420T052604
CREATED:20260216T180029Z
LAST-MODIFIED:20260216T180029Z
UID:10000100-1870329600-1870362000@opencirclemcc.com
SUMMARY:Breakfast Served After Service
DESCRIPTION:2nd Sunday of each month – Breakfast served after service
URL:https://opencirclemcc.com/event1/breakfast-served-after-service/2029-04-08/
END:VEVENT
BEGIN:VEVENT
DTSTART;TZID=America/Halifax:20290506T080000
DTEND;TZID=America/Halifax:20290506T170000
DTSTAMP:20260420T052604
CREATED:20260216T175323Z
LAST-MODIFIED:20260216T175809Z
UID:10000041-1872748800-1872781200@opencirclemcc.com
SUMMARY:Board of Directors Meeting
DESCRIPTION:1st Sunday of each month – Board of Directors Meeting
URL:https://opencirclemcc.com/event1/board-of-directors-meeting/2029-05-06/
END:VEVENT
BEGIN:VEVENT
DTSTART;TZID=America/Halifax:20290513T080000
DTEND;TZID=America/Halifax:20290513T170000
DTSTAMP:20260420T052604
CREATED:20260216T180029Z
LAST-MODIFIED:20260216T180029Z
UID:10000101-1873353600-1873386000@opencirclemcc.com
SUMMARY:Breakfast Served After Service
DESCRIPTION:2nd Sunday of each month – Breakfast served after service
URL:https://opencirclemcc.com/event1/breakfast-served-after-service/2029-05-13/
END:VEVENT
BEGIN:VEVENT
DTSTART;TZID=America/Halifax:20290603T080000
DTEND;TZID=America/Halifax:20290603T170000
DTSTAMP:20260420T052604
CREATED:20260216T175323Z
LAST-MODIFIED:20260216T175809Z
UID:10000042-1875168000-1875200400@opencirclemcc.com
SUMMARY:Board of Directors Meeting
DESCRIPTION:1st Sunday of each month – Board of Directors Meeting
URL:https://opencirclemcc.com/event1/board-of-directors-meeting/2029-06-03/
END:VEVENT
END:VCALENDAR