BEGIN:VCALENDAR
VERSION:2.0
PRODID:-//Open Circle MCC - ECPv6.15.14//NONSGML v1.0//EN
CALSCALE:GREGORIAN
METHOD:PUBLISH
X-WR-CALNAME:Open Circle MCC
X-ORIGINAL-URL:https://opencirclemcc.com
X-WR-CALDESC:Events for Open Circle MCC
REFRESH-INTERVAL;VALUE=DURATION:PT1H
X-Robots-Tag:noindex
X-PUBLISHED-TTL:PT1H
BEGIN:VTIMEZONE
TZID:America/Halifax
BEGIN:DAYLIGHT
TZOFFSETFROM:-0400
TZOFFSETTO:-0300
TZNAME:ADT
DTSTART:20250309T060000
END:DAYLIGHT
BEGIN:STANDARD
TZOFFSETFROM:-0300
TZOFFSETTO:-0400
TZNAME:AST
DTSTART:20251102T050000
END:STANDARD
BEGIN:DAYLIGHT
TZOFFSETFROM:-0400
TZOFFSETTO:-0300
TZNAME:ADT
DTSTART:20260308T060000
END:DAYLIGHT
BEGIN:STANDARD
TZOFFSETFROM:-0300
TZOFFSETTO:-0400
TZNAME:AST
DTSTART:20261101T050000
END:STANDARD
BEGIN:DAYLIGHT
TZOFFSETFROM:-0400
TZOFFSETTO:-0300
TZNAME:ADT
DTSTART:20270314T060000
END:DAYLIGHT
BEGIN:STANDARD
TZOFFSETFROM:-0300
TZOFFSETTO:-0400
TZNAME:AST
DTSTART:20271107T050000
END:STANDARD
BEGIN:DAYLIGHT
TZOFFSETFROM:-0400
TZOFFSETTO:-0300
TZNAME:ADT
DTSTART:20280312T060000
END:DAYLIGHT
BEGIN:STANDARD
TZOFFSETFROM:-0300
TZOFFSETTO:-0400
TZNAME:AST
DTSTART:20281105T050000
END:STANDARD
BEGIN:DAYLIGHT
TZOFFSETFROM:-0400
TZOFFSETTO:-0300
TZNAME:ADT
DTSTART:20290311T060000
END:DAYLIGHT
BEGIN:STANDARD
TZOFFSETFROM:-0300
TZOFFSETTO:-0400
TZNAME:AST
DTSTART:20291104T050000
END:STANDARD
END:VTIMEZONE
BEGIN:VEVENT
DTSTART;TZID=America/Halifax:20261206T080000
DTEND;TZID=America/Halifax:20261206T170000
DTSTAMP:20260420T003242
CREATED:20260216T175323Z
LAST-MODIFIED:20260216T175809Z
UID:10000012-1796544000-1796576400@opencirclemcc.com
SUMMARY:Board of Directors Meeting
DESCRIPTION:1st Sunday of each month – Board of Directors Meeting
URL:https://opencirclemcc.com/event1/board-of-directors-meeting/2026-12-06/
END:VEVENT
BEGIN:VEVENT
DTSTART;TZID=America/Halifax:20261213T080000
DTEND;TZID=America/Halifax:20261213T170000
DTSTAMP:20260420T003242
CREATED:20260216T180029Z
LAST-MODIFIED:20260216T180029Z
UID:10000072-1797148800-1797181200@opencirclemcc.com
SUMMARY:Breakfast Served After Service
DESCRIPTION:2nd Sunday of each month – Breakfast served after service
URL:https://opencirclemcc.com/event1/breakfast-served-after-service/2026-12-13/
END:VEVENT
BEGIN:VEVENT
DTSTART;TZID=America/Halifax:20261215T110000
DTEND;TZID=America/Halifax:20261215T170000
DTSTAMP:20260420T003242
CREATED:20260218T175844Z
LAST-MODIFIED:20260218T175844Z
UID:10000146-1797332400-1797354000@opencirclemcc.com
SUMMARY:Christmas Basket drawing
DESCRIPTION:
URL:https://opencirclemcc.com/event1/christmas-basket-drawing/
END:VEVENT
BEGIN:VEVENT
DTSTART;TZID=America/Halifax:20270103T080000
DTEND;TZID=America/Halifax:20270103T170000
DTSTAMP:20260420T003242
CREATED:20260216T175323Z
LAST-MODIFIED:20260216T175809Z
UID:10000013-1798963200-1798995600@opencirclemcc.com
SUMMARY:Board of Directors Meeting
DESCRIPTION:1st Sunday of each month – Board of Directors Meeting
URL:https://opencirclemcc.com/event1/board-of-directors-meeting/2027-01-03/
END:VEVENT
BEGIN:VEVENT
DTSTART;TZID=America/Halifax:20270110T080000
DTEND;TZID=America/Halifax:20270110T170000
DTSTAMP:20260420T003242
CREATED:20260216T180029Z
LAST-MODIFIED:20260216T180029Z
UID:10000073-1799568000-1799600400@opencirclemcc.com
SUMMARY:Breakfast Served After Service
DESCRIPTION:2nd Sunday of each month – Breakfast served after service
URL:https://opencirclemcc.com/event1/breakfast-served-after-service/2027-01-10/
END:VEVENT
BEGIN:VEVENT
DTSTART;TZID=America/Halifax:20270207T080000
DTEND;TZID=America/Halifax:20270207T170000
DTSTAMP:20260420T003242
CREATED:20260216T175323Z
LAST-MODIFIED:20260216T175809Z
UID:10000014-1801987200-1802019600@opencirclemcc.com
SUMMARY:Board of Directors Meeting
DESCRIPTION:1st Sunday of each month – Board of Directors Meeting
URL:https://opencirclemcc.com/event1/board-of-directors-meeting/2027-02-07/
END:VEVENT
BEGIN:VEVENT
DTSTART;TZID=America/Halifax:20270214T080000
DTEND;TZID=America/Halifax:20270214T170000
DTSTAMP:20260420T003242
CREATED:20260216T180029Z
LAST-MODIFIED:20260216T180029Z
UID:10000074-1802592000-1802624400@opencirclemcc.com
SUMMARY:Breakfast Served After Service
DESCRIPTION:2nd Sunday of each month – Breakfast served after service
URL:https://opencirclemcc.com/event1/breakfast-served-after-service/2027-02-14/
END:VEVENT
BEGIN:VEVENT
DTSTART;TZID=America/Halifax:20270307T080000
DTEND;TZID=America/Halifax:20270307T170000
DTSTAMP:20260420T003242
CREATED:20260216T175323Z
LAST-MODIFIED:20260216T175809Z
UID:10000015-1804406400-1804438800@opencirclemcc.com
SUMMARY:Board of Directors Meeting
DESCRIPTION:1st Sunday of each month – Board of Directors Meeting
URL:https://opencirclemcc.com/event1/board-of-directors-meeting/2027-03-07/
END:VEVENT
BEGIN:VEVENT
DTSTART;TZID=America/Halifax:20270314T080000
DTEND;TZID=America/Halifax:20270314T170000
DTSTAMP:20260420T003242
CREATED:20260216T180029Z
LAST-MODIFIED:20260216T180029Z
UID:10000075-1805011200-1805043600@opencirclemcc.com
SUMMARY:Breakfast Served After Service
DESCRIPTION:2nd Sunday of each month – Breakfast served after service
URL:https://opencirclemcc.com/event1/breakfast-served-after-service/2027-03-14/
END:VEVENT
BEGIN:VEVENT
DTSTART;TZID=America/Halifax:20270404T080000
DTEND;TZID=America/Halifax:20270404T170000
DTSTAMP:20260420T003242
CREATED:20260216T175323Z
LAST-MODIFIED:20260216T175809Z
UID:10000016-1806825600-1806858000@opencirclemcc.com
SUMMARY:Board of Directors Meeting
DESCRIPTION:1st Sunday of each month – Board of Directors Meeting
URL:https://opencirclemcc.com/event1/board-of-directors-meeting/2027-04-04/
END:VEVENT
BEGIN:VEVENT
DTSTART;TZID=America/Halifax:20270411T080000
DTEND;TZID=America/Halifax:20270411T170000
DTSTAMP:20260420T003242
CREATED:20260216T180029Z
LAST-MODIFIED:20260216T180029Z
UID:10000076-1807430400-1807462800@opencirclemcc.com
SUMMARY:Breakfast Served After Service
DESCRIPTION:2nd Sunday of each month – Breakfast served after service
URL:https://opencirclemcc.com/event1/breakfast-served-after-service/2027-04-11/
END:VEVENT
BEGIN:VEVENT
DTSTART;TZID=America/Halifax:20270502T080000
DTEND;TZID=America/Halifax:20270502T170000
DTSTAMP:20260420T003242
CREATED:20260216T175323Z
LAST-MODIFIED:20260216T175809Z
UID:10000017-1809244800-1809277200@opencirclemcc.com
SUMMARY:Board of Directors Meeting
DESCRIPTION:1st Sunday of each month – Board of Directors Meeting
URL:https://opencirclemcc.com/event1/board-of-directors-meeting/2027-05-02/
END:VEVENT
BEGIN:VEVENT
DTSTART;TZID=America/Halifax:20270509T080000
DTEND;TZID=America/Halifax:20270509T170000
DTSTAMP:20260420T003242
CREATED:20260216T180029Z
LAST-MODIFIED:20260216T180029Z
UID:10000077-1809849600-1809882000@opencirclemcc.com
SUMMARY:Breakfast Served After Service
DESCRIPTION:2nd Sunday of each month – Breakfast served after service
URL:https://opencirclemcc.com/event1/breakfast-served-after-service/2027-05-09/
END:VEVENT
BEGIN:VEVENT
DTSTART;TZID=America/Halifax:20270606T080000
DTEND;TZID=America/Halifax:20270606T170000
DTSTAMP:20260420T003242
CREATED:20260216T175323Z
LAST-MODIFIED:20260216T175809Z
UID:10000018-1812268800-1812301200@opencirclemcc.com
SUMMARY:Board of Directors Meeting
DESCRIPTION:1st Sunday of each month – Board of Directors Meeting
URL:https://opencirclemcc.com/event1/board-of-directors-meeting/2027-06-06/
END:VEVENT
BEGIN:VEVENT
DTSTART;TZID=America/Halifax:20270613T080000
DTEND;TZID=America/Halifax:20270613T170000
DTSTAMP:20260420T003242
CREATED:20260216T180029Z
LAST-MODIFIED:20260216T180029Z
UID:10000078-1812873600-1812906000@opencirclemcc.com
SUMMARY:Breakfast Served After Service
DESCRIPTION:2nd Sunday of each month – Breakfast served after service
URL:https://opencirclemcc.com/event1/breakfast-served-after-service/2027-06-13/
END:VEVENT
BEGIN:VEVENT
DTSTART;TZID=America/Halifax:20270704T080000
DTEND;TZID=America/Halifax:20270704T170000
DTSTAMP:20260420T003242
CREATED:20260216T175323Z
LAST-MODIFIED:20260216T175809Z
UID:10000019-1814688000-1814720400@opencirclemcc.com
SUMMARY:Board of Directors Meeting
DESCRIPTION:1st Sunday of each month – Board of Directors Meeting
URL:https://opencirclemcc.com/event1/board-of-directors-meeting/2027-07-04/
END:VEVENT
BEGIN:VEVENT
DTSTART;TZID=America/Halifax:20270711T080000
DTEND;TZID=America/Halifax:20270711T170000
DTSTAMP:20260420T003242
CREATED:20260216T180029Z
LAST-MODIFIED:20260216T180029Z
UID:10000079-1815292800-1815325200@opencirclemcc.com
SUMMARY:Breakfast Served After Service
DESCRIPTION:2nd Sunday of each month – Breakfast served after service
URL:https://opencirclemcc.com/event1/breakfast-served-after-service/2027-07-11/
END:VEVENT
BEGIN:VEVENT
DTSTART;TZID=America/Halifax:20270801T080000
DTEND;TZID=America/Halifax:20270801T170000
DTSTAMP:20260420T003242
CREATED:20260216T175323Z
LAST-MODIFIED:20260216T175809Z
UID:10000020-1817107200-1817139600@opencirclemcc.com
SUMMARY:Board of Directors Meeting
DESCRIPTION:1st Sunday of each month – Board of Directors Meeting
URL:https://opencirclemcc.com/event1/board-of-directors-meeting/2027-08-01/
END:VEVENT
BEGIN:VEVENT
DTSTART;TZID=America/Halifax:20270808T080000
DTEND;TZID=America/Halifax:20270808T170000
DTSTAMP:20260420T003242
CREATED:20260216T180029Z
LAST-MODIFIED:20260216T180029Z
UID:10000080-1817712000-1817744400@opencirclemcc.com
SUMMARY:Breakfast Served After Service
DESCRIPTION:2nd Sunday of each month – Breakfast served after service
URL:https://opencirclemcc.com/event1/breakfast-served-after-service/2027-08-08/
END:VEVENT
BEGIN:VEVENT
DTSTART;TZID=America/Halifax:20270905T080000
DTEND;TZID=America/Halifax:20270905T170000
DTSTAMP:20260420T003242
CREATED:20260216T175323Z
LAST-MODIFIED:20260216T175809Z
UID:10000021-1820131200-1820163600@opencirclemcc.com
SUMMARY:Board of Directors Meeting
DESCRIPTION:1st Sunday of each month – Board of Directors Meeting
URL:https://opencirclemcc.com/event1/board-of-directors-meeting/2027-09-05/
END:VEVENT
BEGIN:VEVENT
DTSTART;TZID=America/Halifax:20270912T080000
DTEND;TZID=America/Halifax:20270912T170000
DTSTAMP:20260420T003242
CREATED:20260216T180029Z
LAST-MODIFIED:20260216T180029Z
UID:10000081-1820736000-1820768400@opencirclemcc.com
SUMMARY:Breakfast Served After Service
DESCRIPTION:2nd Sunday of each month – Breakfast served after service
URL:https://opencirclemcc.com/event1/breakfast-served-after-service/2027-09-12/
END:VEVENT
BEGIN:VEVENT
DTSTART;TZID=America/Halifax:20271003T080000
DTEND;TZID=America/Halifax:20271003T170000
DTSTAMP:20260420T003242
CREATED:20260216T175323Z
LAST-MODIFIED:20260216T175809Z
UID:10000022-1822550400-1822582800@opencirclemcc.com
SUMMARY:Board of Directors Meeting
DESCRIPTION:1st Sunday of each month – Board of Directors Meeting
URL:https://opencirclemcc.com/event1/board-of-directors-meeting/2027-10-03/
END:VEVENT
BEGIN:VEVENT
DTSTART;TZID=America/Halifax:20271010T080000
DTEND;TZID=America/Halifax:20271010T170000
DTSTAMP:20260420T003242
CREATED:20260216T180029Z
LAST-MODIFIED:20260216T180029Z
UID:10000082-1823155200-1823187600@opencirclemcc.com
SUMMARY:Breakfast Served After Service
DESCRIPTION:2nd Sunday of each month – Breakfast served after service
URL:https://opencirclemcc.com/event1/breakfast-served-after-service/2027-10-10/
END:VEVENT
BEGIN:VEVENT
DTSTART;TZID=America/Halifax:20271107T080000
DTEND;TZID=America/Halifax:20271107T170000
DTSTAMP:20260420T003242
CREATED:20260216T175323Z
LAST-MODIFIED:20260216T175809Z
UID:10000023-1825574400-1825606800@opencirclemcc.com
SUMMARY:Board of Directors Meeting
DESCRIPTION:1st Sunday of each month – Board of Directors Meeting
URL:https://opencirclemcc.com/event1/board-of-directors-meeting/2027-11-07/
END:VEVENT
BEGIN:VEVENT
DTSTART;TZID=America/Halifax:20271114T080000
DTEND;TZID=America/Halifax:20271114T170000
DTSTAMP:20260420T003242
CREATED:20260216T180029Z
LAST-MODIFIED:20260216T180029Z
UID:10000083-1826179200-1826211600@opencirclemcc.com
SUMMARY:Breakfast Served After Service
DESCRIPTION:2nd Sunday of each month – Breakfast served after service
URL:https://opencirclemcc.com/event1/breakfast-served-after-service/2027-11-14/
END:VEVENT
BEGIN:VEVENT
DTSTART;TZID=America/Halifax:20271205T080000
DTEND;TZID=America/Halifax:20271205T170000
DTSTAMP:20260420T003242
CREATED:20260216T175323Z
LAST-MODIFIED:20260216T175809Z
UID:10000024-1827993600-1828026000@opencirclemcc.com
SUMMARY:Board of Directors Meeting
DESCRIPTION:1st Sunday of each month – Board of Directors Meeting
URL:https://opencirclemcc.com/event1/board-of-directors-meeting/2027-12-05/
END:VEVENT
BEGIN:VEVENT
DTSTART;TZID=America/Halifax:20271212T080000
DTEND;TZID=America/Halifax:20271212T170000
DTSTAMP:20260420T003242
CREATED:20260216T180029Z
LAST-MODIFIED:20260216T180029Z
UID:10000084-1828598400-1828630800@opencirclemcc.com
SUMMARY:Breakfast Served After Service
DESCRIPTION:2nd Sunday of each month – Breakfast served after service
URL:https://opencirclemcc.com/event1/breakfast-served-after-service/2027-12-12/
END:VEVENT
BEGIN:VEVENT
DTSTART;TZID=America/Halifax:20280102T080000
DTEND;TZID=America/Halifax:20280102T170000
DTSTAMP:20260420T003242
CREATED:20260216T175323Z
LAST-MODIFIED:20260216T175809Z
UID:10000025-1830412800-1830445200@opencirclemcc.com
SUMMARY:Board of Directors Meeting
DESCRIPTION:1st Sunday of each month – Board of Directors Meeting
URL:https://opencirclemcc.com/event1/board-of-directors-meeting/2028-01-02/
END:VEVENT
BEGIN:VEVENT
DTSTART;TZID=America/Halifax:20280109T080000
DTEND;TZID=America/Halifax:20280109T170000
DTSTAMP:20260420T003242
CREATED:20260216T180029Z
LAST-MODIFIED:20260216T180029Z
UID:10000085-1831017600-1831050000@opencirclemcc.com
SUMMARY:Breakfast Served After Service
DESCRIPTION:2nd Sunday of each month – Breakfast served after service
URL:https://opencirclemcc.com/event1/breakfast-served-after-service/2028-01-09/
END:VEVENT
BEGIN:VEVENT
DTSTART;TZID=America/Halifax:20280206T080000
DTEND;TZID=America/Halifax:20280206T170000
DTSTAMP:20260420T003242
CREATED:20260216T175323Z
LAST-MODIFIED:20260216T175809Z
UID:10000026-1833436800-1833469200@opencirclemcc.com
SUMMARY:Board of Directors Meeting
DESCRIPTION:1st Sunday of each month – Board of Directors Meeting
URL:https://opencirclemcc.com/event1/board-of-directors-meeting/2028-02-06/
END:VEVENT
END:VCALENDAR