BEGIN:VCALENDAR
VERSION:2.0
PRODID:-//Open Circle MCC - ECPv6.15.14//NONSGML v1.0//EN
CALSCALE:GREGORIAN
METHOD:PUBLISH
X-ORIGINAL-URL:https://opencirclemcc.com
X-WR-CALDESC:Events for Open Circle MCC
REFRESH-INTERVAL;VALUE=DURATION:PT1H
X-Robots-Tag:noindex
X-PUBLISHED-TTL:PT1H
BEGIN:VTIMEZONE
TZID:America/Halifax
BEGIN:DAYLIGHT
TZOFFSETFROM:-0400
TZOFFSETTO:-0300
TZNAME:ADT
DTSTART:20250309T060000
END:DAYLIGHT
BEGIN:STANDARD
TZOFFSETFROM:-0300
TZOFFSETTO:-0400
TZNAME:AST
DTSTART:20251102T050000
END:STANDARD
BEGIN:DAYLIGHT
TZOFFSETFROM:-0400
TZOFFSETTO:-0300
TZNAME:ADT
DTSTART:20260308T060000
END:DAYLIGHT
BEGIN:STANDARD
TZOFFSETFROM:-0300
TZOFFSETTO:-0400
TZNAME:AST
DTSTART:20261101T050000
END:STANDARD
BEGIN:DAYLIGHT
TZOFFSETFROM:-0400
TZOFFSETTO:-0300
TZNAME:ADT
DTSTART:20270314T060000
END:DAYLIGHT
BEGIN:STANDARD
TZOFFSETFROM:-0300
TZOFFSETTO:-0400
TZNAME:AST
DTSTART:20271107T050000
END:STANDARD
END:VTIMEZONE
BEGIN:VEVENT
DTSTART;TZID=America/Halifax:20260924T080000
DTEND;TZID=America/Halifax:20260926T170000
DTSTAMP:20260419T223204
CREATED:20260216T182857Z
LAST-MODIFIED:20260216T182857Z
UID:10000132-1790236800-1790442000@opencirclemcc.com
SUMMARY:Florida MCC Network Gathering\, King of Peace MCC
DESCRIPTION:MCC members from across Florida gathered at Pride at the Capitol and March\nfor Our Lives\, with at least six MCC churches represented. Together\, we\nshowed up to advocate for equality\, justice\, and love in action. Pictured\nis J.T. Priar from Church of the Trinity and Katie from Open Circle.
URL:https://opencirclemcc.com/event1/florida-mcc-network-gathering-king-of-peace-mcc/
END:VEVENT
END:VCALENDAR