BEGIN:VCALENDAR
VERSION:2.0
PRODID:-//Open Circle MCC - ECPv6.15.14//NONSGML v1.0//EN
CALSCALE:GREGORIAN
METHOD:PUBLISH
X-WR-CALNAME:Open Circle MCC
X-ORIGINAL-URL:https://opencirclemcc.com
X-WR-CALDESC:Events for Open Circle MCC
REFRESH-INTERVAL;VALUE=DURATION:PT1H
X-Robots-Tag:noindex
X-PUBLISHED-TTL:PT1H
BEGIN:VTIMEZONE
TZID:America/Halifax
BEGIN:DAYLIGHT
TZOFFSETFROM:-0400
TZOFFSETTO:-0300
TZNAME:ADT
DTSTART:20250309T060000
END:DAYLIGHT
BEGIN:STANDARD
TZOFFSETFROM:-0300
TZOFFSETTO:-0400
TZNAME:AST
DTSTART:20251102T050000
END:STANDARD
BEGIN:DAYLIGHT
TZOFFSETFROM:-0400
TZOFFSETTO:-0300
TZNAME:ADT
DTSTART:20260308T060000
END:DAYLIGHT
BEGIN:STANDARD
TZOFFSETFROM:-0300
TZOFFSETTO:-0400
TZNAME:AST
DTSTART:20261101T050000
END:STANDARD
BEGIN:DAYLIGHT
TZOFFSETFROM:-0400
TZOFFSETTO:-0300
TZNAME:ADT
DTSTART:20270314T060000
END:DAYLIGHT
BEGIN:STANDARD
TZOFFSETFROM:-0300
TZOFFSETTO:-0400
TZNAME:AST
DTSTART:20271107T050000
END:STANDARD
END:VTIMEZONE
BEGIN:VEVENT
DTSTART;TZID=America/Halifax:20260322T080000
DTEND;TZID=America/Halifax:20260322T170000
DTSTAMP:20260419T153422
CREATED:20260216T182535Z
LAST-MODIFIED:20260216T182535Z
UID:10000130-1774166400-1774198800@opencirclemcc.com
SUMMARY:Marvin Matthews in concert
DESCRIPTION:MCC of the Palm Beaches
URL:https://opencirclemcc.com/event1/marvin-matthews-in-concert/
END:VEVENT
END:VCALENDAR